BEGIN:VCALENDAR
VERSION:2.0
PRODID:-//Donegal Dublin Business Network - ECPv6.15.12.2//NONSGML v1.0//EN
CALSCALE:GREGORIAN
METHOD:PUBLISH
X-WR-CALNAME:Donegal Dublin Business Network
X-ORIGINAL-URL:https://www.donegaldublinbusinessnetwork.com
X-WR-CALDESC:Events for Donegal Dublin Business Network
REFRESH-INTERVAL;VALUE=DURATION:PT1H
X-Robots-Tag:noindex
X-PUBLISHED-TTL:PT1H
BEGIN:VTIMEZONE
TZID:Europe/London
BEGIN:DAYLIGHT
TZOFFSETFROM:+0000
TZOFFSETTO:+0100
TZNAME:BST
DTSTART:20250330T010000
END:DAYLIGHT
BEGIN:STANDARD
TZOFFSETFROM:+0100
TZOFFSETTO:+0000
TZNAME:GMT
DTSTART:20251026T010000
END:STANDARD
BEGIN:DAYLIGHT
TZOFFSETFROM:+0000
TZOFFSETTO:+0100
TZNAME:BST
DTSTART:20260329T010000
END:DAYLIGHT
BEGIN:STANDARD
TZOFFSETFROM:+0100
TZOFFSETTO:+0000
TZNAME:GMT
DTSTART:20261025T010000
END:STANDARD
BEGIN:DAYLIGHT
TZOFFSETFROM:+0000
TZOFFSETTO:+0100
TZNAME:BST
DTSTART:20270328T010000
END:DAYLIGHT
BEGIN:STANDARD
TZOFFSETFROM:+0100
TZOFFSETTO:+0000
TZNAME:GMT
DTSTART:20271031T010000
END:STANDARD
END:VTIMEZONE
BEGIN:VEVENT
DTSTART;TZID=Europe/London:20260416T180000
DTEND;TZID=Europe/London:20260416T220000
DTSTAMP:20260420T025411
CREATED:20260309T225109Z
LAST-MODIFIED:20260309T225215Z
UID:902-1776362400-1776376800@www.donegaldublinbusinessnetwork.com
SUMMARY:Networking Event: “Building a Billion Euro Business”
DESCRIPTION:Join us for what promises to be a fascinating panel discussion with Donagh Kelly\, CEO of Circet\, alongside business mentor Bart McEnroe\, as they share insights on the journey of positioning home-grown KN Networks into a billion-euro business. The evening will be hosted by Newstalk presenter and Donegal native Andrea Gilligan. \nThis is a ticket-only dinner event\, the ticket link and further details will be issued to members under separate cover. \nDDBN members will have the opportunity to showcase their businesses by exhibiting at this event.\nSpace is available for 8 businesses to take a stand on the evening. The Committee will select 8 businesses from the applicants\, ensuring representation across a wide range of sectors and services. If selected\, the exhibition fee will be €150.00. \nIf you are interested in showcasing your business\, please contact us at: donegaldublinbusinessnetwork@gmail.com
URL:https://www.donegaldublinbusinessnetwork.com/event/building-a-billion-euro-business/
LOCATION:Grand Canal Hotel\, Dublin 4\, Ireland
END:VEVENT
BEGIN:VEVENT
DTSTART;VALUE=DATE:20261210
DTEND;VALUE=DATE:20261211
DTSTAMP:20260420T025411
CREATED:20260309T225527Z
LAST-MODIFIED:20260309T225527Z
UID:909-1796860800-1796947199@www.donegaldublinbusinessnetwork.com
SUMMARY:DDBN Christmas Dinner 2026
DESCRIPTION:Details tbc
URL:https://www.donegaldublinbusinessnetwork.com/event/ddbn-christmas-dinner-2026/
END:VEVENT
END:VCALENDAR