BEGIN:VCALENDAR
VERSION:2.0
PRODID:-//Donegal Dublin Business Network - ECPv6.15.12.2//NONSGML v1.0//EN
CALSCALE:GREGORIAN
METHOD:PUBLISH
X-WR-CALNAME:Donegal Dublin Business Network
X-ORIGINAL-URL:https://www.donegaldublinbusinessnetwork.com
X-WR-CALDESC:Events for Donegal Dublin Business Network
REFRESH-INTERVAL;VALUE=DURATION:PT1H
X-Robots-Tag:noindex
X-PUBLISHED-TTL:PT1H
BEGIN:VTIMEZONE
TZID:Europe/London
BEGIN:DAYLIGHT
TZOFFSETFROM:+0000
TZOFFSETTO:+0100
TZNAME:BST
DTSTART:20240331T010000
END:DAYLIGHT
BEGIN:STANDARD
TZOFFSETFROM:+0100
TZOFFSETTO:+0000
TZNAME:GMT
DTSTART:20241027T010000
END:STANDARD
BEGIN:DAYLIGHT
TZOFFSETFROM:+0000
TZOFFSETTO:+0100
TZNAME:BST
DTSTART:20250330T010000
END:DAYLIGHT
BEGIN:STANDARD
TZOFFSETFROM:+0100
TZOFFSETTO:+0000
TZNAME:GMT
DTSTART:20251026T010000
END:STANDARD
BEGIN:DAYLIGHT
TZOFFSETFROM:+0000
TZOFFSETTO:+0100
TZNAME:BST
DTSTART:20260329T010000
END:DAYLIGHT
BEGIN:STANDARD
TZOFFSETFROM:+0100
TZOFFSETTO:+0000
TZNAME:GMT
DTSTART:20261025T010000
END:STANDARD
END:VTIMEZONE
BEGIN:VEVENT
DTSTART;TZID=Europe/London:20250925T063000
DTEND;TZID=Europe/London:20250925T083000
DTSTAMP:20260420T024215
CREATED:20250616T211022Z
LAST-MODIFIED:20250921T214607Z
UID:505-1758781800-1758789000@www.donegaldublinbusinessnetwork.com
SUMMARY:An evening with Magee1866
DESCRIPTION:
URL:https://www.donegaldublinbusinessnetwork.com/event/magee-1866-social-evening/
LOCATION:Magee Store\, Unit 2\, 21-26 Anne St S\, Dublin\, D02 CH94\, Ireland
ATTACH;FMTTYPE=image/png:https://www.donegaldublinbusinessnetwork.com/wp-content/uploads/2025/06/Screenshot-2025-09-21-21.29.47.png
END:VEVENT
END:VCALENDAR